BEGIN:VCALENDAR
VERSION:2.0
PRODID:-//The Resourceful Mother - ECPv6.15.20//NONSGML v1.0//EN
CALSCALE:GREGORIAN
METHOD:PUBLISH
X-WR-CALNAME:The Resourceful Mother
X-ORIGINAL-URL:https://theresourcefulmother.com
X-WR-CALDESC:Events for The Resourceful Mother
REFRESH-INTERVAL;VALUE=DURATION:PT1H
X-Robots-Tag:noindex
X-PUBLISHED-TTL:PT1H
BEGIN:VTIMEZONE
TZID:America/Toronto
BEGIN:DAYLIGHT
TZOFFSETFROM:-0500
TZOFFSETTO:-0400
TZNAME:EDT
DTSTART:20200308T070000
END:DAYLIGHT
BEGIN:STANDARD
TZOFFSETFROM:-0400
TZOFFSETTO:-0500
TZNAME:EST
DTSTART:20201101T060000
END:STANDARD
BEGIN:DAYLIGHT
TZOFFSETFROM:-0500
TZOFFSETTO:-0400
TZNAME:EDT
DTSTART:20210314T070000
END:DAYLIGHT
BEGIN:STANDARD
TZOFFSETFROM:-0400
TZOFFSETTO:-0500
TZNAME:EST
DTSTART:20211107T060000
END:STANDARD
BEGIN:DAYLIGHT
TZOFFSETFROM:-0500
TZOFFSETTO:-0400
TZNAME:EDT
DTSTART:20220313T070000
END:DAYLIGHT
BEGIN:STANDARD
TZOFFSETFROM:-0400
TZOFFSETTO:-0500
TZNAME:EST
DTSTART:20221106T060000
END:STANDARD
END:VTIMEZONE
BEGIN:VEVENT
DTSTART;TZID=America/Toronto:20210111T080000
DTEND;TZID=America/Toronto:20210111T170000
DTSTAMP:20260421T182516
CREATED:20210111T175259Z
LAST-MODIFIED:20230526T211617Z
UID:4240-1610352000-1610384400@theresourcefulmother.com
SUMMARY:Fulfill Your Destiny
DESCRIPTION:TAKING THE ACTUAL STEPS TO MANIFESTING THE LIFE YOU WANT TO LIVE\n\n\n\nONLINE WORKSHOP VIA ZOOM\n\n\n\nDIGITAL JOURNAL INCLUDED \n\n\n\nTuesday\, January 26th\, 2021 • 7 -10 PM EDT
URL:https://theresourcefulmother.com/event/fulfill-your-destiny/
CATEGORIES:Past Events
ATTACH;FMTTYPE=image/png:https://theresourcefulmother.com/wp-content/uploads/TRM-Fuel-Your-Soul-1-2.png
END:VEVENT
END:VCALENDAR