BEGIN:VCALENDAR
VERSION:2.0
PRODID:-//The Resourceful Mother - ECPv6.15.20//NONSGML v1.0//EN
CALSCALE:GREGORIAN
METHOD:PUBLISH
X-WR-CALNAME:The Resourceful Mother
X-ORIGINAL-URL:https://theresourcefulmother.com
X-WR-CALDESC:Events for The Resourceful Mother
REFRESH-INTERVAL;VALUE=DURATION:PT1H
X-Robots-Tag:noindex
X-PUBLISHED-TTL:PT1H
BEGIN:VTIMEZONE
TZID:America/Toronto
BEGIN:DAYLIGHT
TZOFFSETFROM:-0500
TZOFFSETTO:-0400
TZNAME:EDT
DTSTART:20230312T070000
END:DAYLIGHT
BEGIN:STANDARD
TZOFFSETFROM:-0400
TZOFFSETTO:-0500
TZNAME:EST
DTSTART:20231105T060000
END:STANDARD
BEGIN:DAYLIGHT
TZOFFSETFROM:-0500
TZOFFSETTO:-0400
TZNAME:EDT
DTSTART:20240310T070000
END:DAYLIGHT
BEGIN:STANDARD
TZOFFSETFROM:-0400
TZOFFSETTO:-0500
TZNAME:EST
DTSTART:20241103T060000
END:STANDARD
BEGIN:DAYLIGHT
TZOFFSETFROM:-0500
TZOFFSETTO:-0400
TZNAME:EDT
DTSTART:20250309T070000
END:DAYLIGHT
BEGIN:STANDARD
TZOFFSETFROM:-0400
TZOFFSETTO:-0500
TZNAME:EST
DTSTART:20251102T060000
END:STANDARD
END:VTIMEZONE
BEGIN:VEVENT
DTSTART;TZID=America/Toronto:20240126T000000
DTEND;TZID=America/Toronto:20240128T235959
DTSTAMP:20260419T121912
CREATED:20250224T145405Z
LAST-MODIFIED:20250420T182642Z
UID:4635-1706227200-1706486399@theresourcefulmother.com
SUMMARY:Make 2024 Your Year
DESCRIPTION:Hello Lovely Women! \n\n\n\nAs many of you know\, I have been offering weekend retreats\, with all different themes\, for just over a year now. The majority of the groups end up asking for a Part 2\, Part 3 and some are up to a Part 4. As a result\, I am booked until May with retreats. This makes it tricky for new people to partake! Sooo\, in response to your requests\, in January\, I am offering a retreat just for newcomers! \n\n\n\nThis retreat is designed to help you make 2024 the year you have always dreamed of. In one weekend\, you will: \n\n\n\n\n\n\n\n Learn how to identify and clear your incorrect beliefs \n\n\n\n\n\n\n\n Understand how to match your thoughts to your reality \n\n\n\n\n\n\n\n Learn the exact steps to manifesting what you want \n\n\n\n\n\n\n\n Create a 2024 vision board that excites you AND is realistic \n\n\n\n\n\n\n\n Find out the flower essence and specific affirmation that will shift YOU at a cellular level\, in order to achieve your heart’s desire \n\n\n\n\n\n\n\nParticipate in a special ceremony\, meditate\, bond with like-minded women\, release pain from your past in a safe & loving environment\, have fun and more!!! \n\n\n\nYou can have your own room or obtain a discount if you share with a friend (you will have your own bed). Please contact me for more details! \n\n\n\nYour loving life coach who badly wants to help you make 2024 YOUR year\, Meredith xoxo
URL:https://theresourcefulmother.com/event/make-2024-your-year/
CATEGORIES:Past Events
ATTACH;FMTTYPE=image/jpeg:https://theresourcefulmother.com/wp-content/uploads/retreat-1.jpeg
END:VEVENT
END:VCALENDAR