BEGIN:VCALENDAR
VERSION:2.0
PRODID:-//The Resourceful Mother - ECPv6.15.20//NONSGML v1.0//EN
CALSCALE:GREGORIAN
METHOD:PUBLISH
X-WR-CALNAME:The Resourceful Mother
X-ORIGINAL-URL:https://theresourcefulmother.com
X-WR-CALDESC:Events for The Resourceful Mother
REFRESH-INTERVAL;VALUE=DURATION:PT1H
X-Robots-Tag:noindex
X-PUBLISHED-TTL:PT1H
BEGIN:VTIMEZONE
TZID:America/Toronto
BEGIN:DAYLIGHT
TZOFFSETFROM:-0500
TZOFFSETTO:-0400
TZNAME:EDT
DTSTART:20190310T070000
END:DAYLIGHT
BEGIN:STANDARD
TZOFFSETFROM:-0400
TZOFFSETTO:-0500
TZNAME:EST
DTSTART:20191103T060000
END:STANDARD
BEGIN:DAYLIGHT
TZOFFSETFROM:-0500
TZOFFSETTO:-0400
TZNAME:EDT
DTSTART:20200308T070000
END:DAYLIGHT
BEGIN:STANDARD
TZOFFSETFROM:-0400
TZOFFSETTO:-0500
TZNAME:EST
DTSTART:20201101T060000
END:STANDARD
BEGIN:DAYLIGHT
TZOFFSETFROM:-0500
TZOFFSETTO:-0400
TZNAME:EDT
DTSTART:20210314T070000
END:DAYLIGHT
BEGIN:STANDARD
TZOFFSETFROM:-0400
TZOFFSETTO:-0500
TZNAME:EST
DTSTART:20211107T060000
END:STANDARD
END:VTIMEZONE
BEGIN:VEVENT
DTSTART;TZID=America/Toronto:20200922T190000
DTEND;TZID=America/Toronto:20200922T220000
DTSTAMP:20260421T232055
CREATED:20200814T141712Z
LAST-MODIFIED:20201118T153315Z
UID:4081-1600801200-1600812000@theresourcefulmother.com
SUMMARY:Heal Your Perspective
DESCRIPTION:Online Workshop via Zoom\n\n\n\n\n\nThrough seeing ourselves and our lives through the eyes of the soul\, we experience the utmost peace & understanding. \n\n\n\n$ 127 \n\n\n\n\n\n\n\n\n\n\n\n\nClick Here to learn more about this workshop.
URL:https://theresourcefulmother.com/event/heal-your-perspective/
CATEGORIES:Online Workshops
ATTACH;FMTTYPE=image/png:https://theresourcefulmother.com/wp-content/uploads/IMG_9341.png
END:VEVENT
END:VCALENDAR